BEGIN:VCALENDAR
VERSION:2.0
PRODID:-//SABayArea - ECPv6.15.11//NONSGML v1.0//EN
CALSCALE:GREGORIAN
METHOD:PUBLISH
X-WR-CALNAME:SABayArea
X-ORIGINAL-URL:https://sabayarea.org
X-WR-CALDESC:Events for SABayArea
REFRESH-INTERVAL;VALUE=DURATION:PT1H
X-Robots-Tag:noindex
X-PUBLISHED-TTL:PT1H
BEGIN:VTIMEZONE
TZID:America/Los_Angeles
BEGIN:DAYLIGHT
TZOFFSETFROM:-0800
TZOFFSETTO:-0700
TZNAME:PDT
DTSTART:20240310T100000
END:DAYLIGHT
BEGIN:STANDARD
TZOFFSETFROM:-0700
TZOFFSETTO:-0800
TZNAME:PST
DTSTART:20241103T090000
END:STANDARD
BEGIN:DAYLIGHT
TZOFFSETFROM:-0800
TZOFFSETTO:-0700
TZNAME:PDT
DTSTART:20250309T100000
END:DAYLIGHT
BEGIN:STANDARD
TZOFFSETFROM:-0700
TZOFFSETTO:-0800
TZNAME:PST
DTSTART:20251102T090000
END:STANDARD
BEGIN:DAYLIGHT
TZOFFSETFROM:-0800
TZOFFSETTO:-0700
TZNAME:PDT
DTSTART:20260308T100000
END:DAYLIGHT
BEGIN:STANDARD
TZOFFSETFROM:-0700
TZOFFSETTO:-0800
TZNAME:PST
DTSTART:20261101T090000
END:STANDARD
END:VTIMEZONE
BEGIN:VEVENT
DTSTART;TZID=America/Los_Angeles:20250516T150000
DTEND;TZID=America/Los_Angeles:20250518T130000
DTSTAMP:20260421T073210
CREATED:20250218T011444Z
LAST-MODIFIED:20250218T011444Z
UID:13413-1747407600-1747573200@sabayarea.org
SUMMARY:2025 SA Big Bear Men's Retreat
DESCRIPTION:The Big Bear Men’s Retreat planning committee is inviting all male members to attend this weekend retreat “to improve our conscious contact with God. No matter what Step you are working\, you will find help and encouragement. We will be taking action to work the steps. We will also make sure that we have fun.” \nFor additional information click the following link to download a retreat flyer: \n2025 Big Bear Men’s Retreat Flyer \nTo register\, click the following: \nhttps://s-events.regfox.com/big-bear-mens-retreat
URL:https://sabayarea.org/event/2025-sa-big-bear-mens-retreat/
LOCATION:Cedar  Lake  Conference  Center\,  Big  Bear\,  California\, 1100 Mill Creek Rd.\, Big Bear Lake\, CA\, 92315
CATEGORIES:Regional and International Events
END:VEVENT
END:VCALENDAR